BEGIN:VCALENDAR
VERSION:2.0
PRODID:icalendar-ruby
CALSCALE:GREGORIAN
METHOD:PUBLISH
BEGIN:VEVENT
DTSTAMP:20260421T124616Z
UID:634-1059997@csfbc.net
DTSTART:20260425T000000Z
DTEND:20260425T120000Z
CLASS:PUBLIC
CREATED:20260408T123630
DESCRIPTION:Nerf wars\, games\, food\, and prizes!  Invite your friends bu
 t let Kyler know by Sunday\, April 19th if you plan to attend!
LAST-MODIFIED:20260408T123630
LOCATION:First Baptist Church
SUMMARY:Youth Battle Blaster Lock In
URL;VALUE=URI:https://www.csfbc.net/events/youth-battle-blaster-lock-in/202
 6-04-24
ATTACH;FILENAME=Battle-Blaster-Lock-In--Presentation.png;FMTTYPE=image/png:
 https://dq5pwpg1q8ru0.cloudfront.net/2026/04/08/16/36/30/8910ac8f-b74f-4d4
 c-9b91-a481033c1a0b/Battle-Blaster-Lock-In--Presentation.png
END:VEVENT
END:VCALENDAR
