BEGIN:VCALENDAR
VERSION:2.0
PRODID:icalendar-ruby
CALSCALE:GREGORIAN
METHOD:PUBLISH
BEGIN:VEVENT
DTSTAMP:20260421T124621Z
UID:637-1059998@csfbc.net
DTSTART:20260516T120000Z
DTEND:20260516T190000Z
CLASS:PUBLIC
CREATED:20260408T123908
DESCRIPTION:All proceeds benefit our Honduras mission trip fund\, if you wo
 uld like to donate please contact Robin @ roakes1231@gmail.com or 814.573.
 5572 to arrange a time for drop off.
LAST-MODIFIED:20260408T123908
LOCATION:First Baptist Church
SUMMARY:Rummage Sale
URL;VALUE=URI:https://www.csfbc.net/events/rummage-sale/2026-05-16
ATTACH;FILENAME=Rummage-Sale-Presentation.png;FMTTYPE=image/png:https://dq5
 pwpg1q8ru0.cloudfront.net/2026/04/08/16/39/08/7798b4d8-67cf-4c8c-a488-8fdb
 929f3d0f/Rummage-Sale-Presentation.png
END:VEVENT
END:VCALENDAR
