BEGIN:VCALENDAR
VERSION:2.0
PRODID:icalendar-ruby
CALSCALE:GREGORIAN
METHOD:PUBLISH
BEGIN:VEVENT
DTSTAMP:20260421T124620Z
UID:640-1060001@csfbc.net
DTSTART:20260424T223000Z
DTEND:20260424T233000Z
CLASS:PUBLIC
CREATED:20260408T124205
DESCRIPTION:
LAST-MODIFIED:20260408T124205
LOCATION:First Baptist Church
SUMMARY:Ballroom Dance Class
URL;VALUE=URI:https://www.csfbc.net/events/ballroom-dance-class/2026-04-24
ATTACH;FILENAME=Ballroom-Dance-class-Presentation.png;FMTTYPE=image/png:htt
 ps://dq5pwpg1q8ru0.cloudfront.net/2026/04/08/16/42/05/2ca93da6-a320-4e6d-8
 b6f-270c7e5ac98d/Ballroom-Dance-class-Presentation.png
END:VEVENT
END:VCALENDAR
