BEGIN:VCALENDAR
VERSION:2.0
PRODID:icalendar-ruby
CALSCALE:GREGORIAN
METHOD:PUBLISH
BEGIN:VEVENT
DTSTAMP:20260421T124620Z
UID:639-1060000@csfbc.net
DTSTART:20260503T140000Z
DTEND:20260503T150000Z
CLASS:PUBLIC
CREATED:20260408T124110
DESCRIPTION:
LAST-MODIFIED:20260408T124110
LOCATION:
SUMMARY:Baby/Child Dedication
URL;VALUE=URI:https://www.csfbc.net/events/baby-child-dedication/2026-05-03
ATTACH;FILENAME=Baby-and-Child-Presentation-1.png;FMTTYPE=image/png:https:/
 /dq5pwpg1q8ru0.cloudfront.net/2026/04/08/16/41/10/e50a5dee-61fd-4fe4-b7f9-
 ff2c916bc817/Baby-and-Child-Presentation-1.png
END:VEVENT
END:VCALENDAR
